BEGIN:VCALENDAR
VERSION:2.0
PRODID:-//Tooth Collector Fairies - ECPv6.15.20//NONSGML v1.0//EN
CALSCALE:GREGORIAN
METHOD:PUBLISH
X-WR-CALNAME:Tooth Collector Fairies
X-ORIGINAL-URL:https://toothcollectorfairies.com
X-WR-CALDESC:Events for Tooth Collector Fairies
REFRESH-INTERVAL;VALUE=DURATION:PT1H
X-Robots-Tag:noindex
X-PUBLISHED-TTL:PT1H
BEGIN:VTIMEZONE
TZID:UTC
BEGIN:STANDARD
TZOFFSETFROM:+0000
TZOFFSETTO:+0000
TZNAME:UTC
DTSTART:20210101T000000
END:STANDARD
END:VTIMEZONE
BEGIN:VEVENT
DTSTART;TZID=UTC:20221011T080000
DTEND;TZID=UTC:20221013T170000
DTSTAMP:20260423T193127
CREATED:20220322T192341Z
LAST-MODIFIED:20220322T192341Z
UID:31022-1665475200-1665680400@toothcollectorfairies.com
SUMMARY:St Martin's Episcopal Church Joy of Giving Market
DESCRIPTION:
URL:https://toothcollectorfairies.com/event/st-martins-episcopal-church-joy-of-giving-market/
LOCATION:St Martin’s  Episcopal Church\, 717 Sage Rd\, Houston\, 77056\, United States
END:VEVENT
BEGIN:VEVENT
DTSTART;TZID=UTC:20220930T100000
DTEND;TZID=UTC:20221002T180000
DTSTAMP:20260423T193127
CREATED:20220510T203821Z
LAST-MODIFIED:20220510T203821Z
UID:31065-1664532000-1664733600@toothcollectorfairies.com
SUMMARY:Hollydays Market of New Braunfels
DESCRIPTION:
URL:https://toothcollectorfairies.com/event/hollydays-market-of-new-braunfels/
LOCATION:New Braunfels Convention Center\, 375 S Castell Ave\, New Braunfels\, TX\, 78130\, United States
END:VEVENT
BEGIN:VEVENT
DTSTART;TZID=UTC:20220916T100000
DTEND;TZID=UTC:20220917T180000
DTSTAMP:20260423T193127
CREATED:20220510T202226Z
LAST-MODIFIED:20220510T202226Z
UID:31060-1663322400-1663437600@toothcollectorfairies.com
SUMMARY:Home for the Holidays - Autumn Acres Market
DESCRIPTION:
URL:https://toothcollectorfairies.com/event/home-for-the-holidays-autumn-acres-market/
LOCATION:L.D. Robinson Pavilion – Gerald D. Young Facility\, 5825 Katy Hockley Cut Off Rd\, Katy\, 77493\, United States
END:VEVENT
BEGIN:VEVENT
DTSTART;TZID=UTC:20220910T090000
DTEND;TZID=UTC:20220910T170000
DTSTAMP:20260423T193127
CREATED:20220321T204006Z
LAST-MODIFIED:20220322T162631Z
UID:30989-1662800400-1662829200@toothcollectorfairies.com
SUMMARY:Shop Til You Drop
DESCRIPTION:
URL:https://toothcollectorfairies.com/event/test-2/
LOCATION:The Berry Center\, 8877 Barker Cypress Rd\, Cypress\, TX\, 77433\, United States
END:VEVENT
BEGIN:VEVENT
DTSTART;TZID=UTC:20220716T080000
DTEND;TZID=UTC:20220716T170000
DTSTAMP:20260423T193127
CREATED:20220322T191656Z
LAST-MODIFIED:20220322T191656Z
UID:31020-1657958400-1657990800@toothcollectorfairies.com
SUMMARY:Big Top Beaumont - Booth P-08
DESCRIPTION:
URL:https://toothcollectorfairies.com/event/big-top-beaumont-booth-p-08/
LOCATION:TX
CATEGORIES:Author Event
END:VEVENT
BEGIN:VEVENT
DTSTART;VALUE=DATE:20220707
DTEND;VALUE=DATE:20220710
DTSTAMP:20260423T193127
CREATED:20220322T191116Z
LAST-MODIFIED:20220322T193342Z
UID:31017-1657152000-1657411199@toothcollectorfairies.com
SUMMARY:Great Homeschool Convention
DESCRIPTION:
URL:https://toothcollectorfairies.com/event/great-homeschool-convention-2/
LOCATION:Kalahari Resorts & Convention Center\, 3001 Kalahari Blvd\, Round Rock\, TX\, 78665\, United States
END:VEVENT
BEGIN:VEVENT
DTSTART;VALUE=DATE:20220623
DTEND;VALUE=DATE:20220628
DTSTAMP:20260423T193127
CREATED:20220322T185750Z
LAST-MODIFIED:20220322T185841Z
UID:31009-1655942400-1656374399@toothcollectorfairies.com
SUMMARY:Chanticleer Authors Conference
DESCRIPTION:
URL:https://toothcollectorfairies.com/event/chanticleer-authors-conference-2/
LOCATION:Bellwether Hotel\, 1 Bellwether Way\, Bellingham\, WA\, 98225\, United States
END:VEVENT
BEGIN:VEVENT
DTSTART;TZID=UTC:20220430T090000
DTEND;TZID=UTC:20220430T090000
DTSTAMP:20260423T193127
CREATED:20220322T161854Z
LAST-MODIFIED:20220322T161854Z
UID:30991-1651309200-1651309200@toothcollectorfairies.com
SUMMARY:Cy-Hope Cypress Market
DESCRIPTION:
URL:https://toothcollectorfairies.com/event/cy-hope-cypress-market/
LOCATION:The Cypress Market @Cy-hope\, 12715 Telge Rd\, Cypress\, TX\, 77429\, United States
END:VEVENT
BEGIN:VEVENT
DTSTART;VALUE=DATE:20220317
DTEND;VALUE=DATE:20220320
DTSTAMP:20260423T193127
CREATED:20220214T235243Z
LAST-MODIFIED:20220214T235457Z
UID:30982-1647475200-1647734399@toothcollectorfairies.com
SUMMARY:Hinman Dental Meeting
DESCRIPTION:
URL:https://toothcollectorfairies.com/event/hinman-dental-meeting-2/
LOCATION:Georgia World Congress Center & Omni Hotel at CNN Center\, Atlanta\, GA\, United States
CATEGORIES:Author Event
ATTACH;FMTTYPE=image/jpeg:https://toothcollectorfairies.com/wp-content/uploads/hinman-dental.jpg
END:VEVENT
END:VCALENDAR